BEGIN:VCALENDAR
PRODID:NingEventWidget-v1
VERSION:2.0
METHOD:PUBLISH
BEGIN:VTIMEZONE
TZID:America/Los_Angeles
X-LIC-LOCATION:America/Los_Angeles
BEGIN:DAYLIGHT
TZOFFSETFROM:-0800
TZOFFSETTO:-0700
TZNAME:PDT
DTSTART:19700308T020000
RRULE:FREQ=YEARLY;BYMONTH=3;BYDAY=2SU
END:DAYLIGHT
BEGIN:STANDARD
TZOFFSETFROM:-0700
TZOFFSETTO:-0800
TZNAME:PST
DTSTART:19701101T020000
RRULE:FREQ=YEARLY;BYMONTH=11;BYDAY=1SU
END:STANDARD
END:VTIMEZONE
BEGIN:VEVENT
UID:2819529:Event:87173
DTSTAMP:20260424T084347Z
SUMMARY:Reunion Class of 1970
DESCRIPTION:1970 Hollywood High School 52nd Reunion \r\nDate: June 25
 , 2022, 5 pm to 11:30 pm\r\nLocation: Flying A Garage in Pasadena\r\n1
 50 N San Gabriel Blvd Ste 700 Pasadena, CA 91107\r\nClass Representat
 ive: Valerie Gumbiner Weiss\r\nContact: www.reunioncommittee.com or 66
 1-259-5999\n\nFor more information visit https://hhsalumnicommunity.ni
 ng.com/events/reunion-class-of-1970
DTSTART;TZID=America/Los_Angeles:20220625T170000
DTEND;TZID=America/Los_Angeles:20220625T233000
CATEGORIES:reunion
LOCATION:Flying A Garage in Pasadena
WEBSITE:http://www.reunioncommittee.com
URL:http://www.reunioncommittee.com
CONTACT:
ORGANIZER:Valerie Gumbiner Weiss
ATTACH;FMTTYPE="image/jpeg":https://storage.ning.com/topology/rest/1.0
 /file/get/8125868853?profile=original
ATTENDEE;ROLE=REQ-PARTICIPANT;PARTSTAT=ACCEPTED;RSVP=TRUE;CN="Alexande
 r Steve Majano":https://hhsalumnicommunity.ning.com/profile/AlexanderS
 teveMajano
ATTENDEE;ROLE=REQ-PARTICIPANT;PARTSTAT=ACCEPTED;RSVP=TRUE;CN="SUSAN J.
  SILVESTRI":https://hhsalumnicommunity.ning.com/profile/MarkSGarcia
END:VEVENT
END:VCALENDAR
